BEGIN:VCALENDAR
VERSION:2.0
PRODID:-//eventon.com NONSGML v1.0//EN
CALSCALE:GREGORIAN
METHOD:PUBLISH
BEGIN:VEVENT
UID:69e5e497ba517
DTSTAMP:20260420T083223Z
DTSTART:20181106T000000Z
DTEND:20180708T000000Z
LOCATION:sadie-coles-davies-street
SUMMARY:Nicola Tyson
DESCRIPTION:Nicola Tyson’s 2017 exhibition at Sadie Coles HQ features a g
 roup of seven new paintings\,  embracing a range of subjects and scales. Ty
 son\,  who has been based in New York since 1989\,  is primarily known as a
  painter but has also worked with photography film\,  performance and the w
 ritten word.[..]\nhttps://artlyst.com/events/nicola-tyson/
URL:https://artlyst.com/events/nicola-tyson/
END:VEVENT
END:VCALENDAR