BEGIN:VCALENDAR
VERSION:2.0
PRODID:-//eventon.com NONSGML v1.0//EN
CALSCALE:GREGORIAN
METHOD:PUBLISH
BEGIN:VEVENT
UID:69e7e467786d3
DTSTAMP:20260421T205607Z
DTSTART:20191201T000000Z
DTEND:20190503T000000Z
LOCATION:Gagosian Gallery Grosvenor Hill 20 Grosvenor Hill London W1K 3QD
SUMMARY:Glenn Brown: Come To Dust
DESCRIPTION:For Glenn Brown\,  one of Britain’s most renowned contemporar
 y artists\,  the past and present are treasuries of raw material\,  offerin
 g countless images\,  titles\,  and techniques to be combined\,  appropriat
 ed\,  and deconstructed. Mining an extensive knowledge of art history\,  as
  well as of literature\,  music\,  and popular culture\,  Brown creates com
 plex and[..]\nhttps://artlyst.com/events/glenn-brown-come-to-dust/
URL:https://artlyst.com/events/glenn-brown-come-to-dust/
END:VEVENT
END:VCALENDAR