BEGIN:VCALENDAR
VERSION:2.0
PRODID:-//eventon.com NONSGML v1.0//EN
CALSCALE:GREGORIAN
METHOD:PUBLISH
BEGIN:VEVENT
UID:69e5e88df0180
DTSTAMP:20260420T084917Z
DTSTART:20191103T000000Z
DTEND:20180505T000000Z
LOCATION:
SUMMARY:Gabriella Boyd: Help Yourself
DESCRIPTION:For the fourth exhibition in Blain|Southern’s Lodger series
 \,  the artist Gabriella Boyd has created a new series of paintings\,  in w
 hich dream logic appears to dominate\,  and the atmosphere is suffused with
  both eroticism and threat. Caught between fretful urgency and an odd\,  im
 mobilising calm\,  these canvases feel like glimpses into a[..]\nhttps://ar
 tlyst.com/events/gabriella-boyd-help-yourself/
URL:https://artlyst.com/events/gabriella-boyd-help-yourself/
END:VEVENT
END:VCALENDAR