BEGIN:VCALENDAR
VERSION:2.0
PRODID:-//eventon.com NONSGML v1.0//EN
CALSCALE:GREGORIAN
METHOD:PUBLISH
BEGIN:VEVENT
UID:69e5e3f85c4d4
DTSTAMP:20260420T082944Z
DTSTART:20180207T000000Z
DTEND:20200707T000000Z
LOCATION:MOCA London 113 Bellenden Road
SUMMARY:Richard Carr: Dumb Listening’s
DESCRIPTION:The first international solo exhibition from Irish artist Rich
 ard Carr. For Dumb Listening’s Carr presents a new sonic installation dev
 eloped specifically for the Museum of Contemporary Art\,  London. Comprisi
 ng of three‘sonic objects’\,  Dumb Listening’s transforms MOCA London
  into a space for the ear\,  encouraging people to shift and listen through
  the deeply[..]\nhttps://artlyst.com/events/richard-carr-dumb-listenings/
URL:https://artlyst.com/events/richard-carr-dumb-listenings/
END:VEVENT
END:VCALENDAR