BEGIN:VCALENDAR
VERSION:2.0
PRODID:-//eventon.com NONSGML v1.0//EN
CALSCALE:GREGORIAN
METHOD:PUBLISH
BEGIN:VEVENT
UID:69e5e7ce25a11
DTSTAMP:20260420T084606Z
DTSTART:20181110T000000Z
DTEND:20210301T000000Z
LOCATION:Tate Modern Bankside\,  London SE1 9TG
SUMMARY:Anni Albers
DESCRIPTION:A long overdue recognition of Anni Albers’s pivotal contribut
 ion to modern art and design\,  this is the first major exhibition of her w
 ork in the UK. As a female student at the radical Bauhaus art school\,  Alb
 ers was discouraged from taking up certain classes. She enrolled in the wea
 ving workshop[..]\nhttps://artlyst.com/events/anni-albers/
URL:https://artlyst.com/events/anni-albers/
END:VEVENT
END:VCALENDAR