BEGIN:VCALENDAR
VERSION:2.0
PRODID:-//eventon.com NONSGML v1.0//EN
CALSCALE:GREGORIAN
METHOD:PUBLISH
BEGIN:VEVENT
UID:69e916fd1b09c
DTSTAMP:20260422T184413Z
DTSTART:20200209T000000Z
DTEND:20190601T000000Z
LOCATION:Hayward Gallery Southbank Centre\,  Belvedere Rd\,  London SE1 8XX
SUMMARY:Space Shifters
DESCRIPTION:Space Shifters brings together artwork by over 20 internationa
 l artists on the theme of space disruption and alteration. This major thema
 tic exhibition features works that alter or disrupt our sense of space and 
 reorient our understanding of our surroundings in ways that are by turns su
 btle and dramatic. Often constructed from[..]\nhttps://artlyst.com/events/s
 pace-shifters/
URL:https://artlyst.com/events/space-shifters/
END:VEVENT
END:VCALENDAR