BEGIN:VCALENDAR
VERSION:2.0
PRODID:-//eventon.com NONSGML v1.0//EN
CALSCALE:GREGORIAN
METHOD:PUBLISH
BEGIN:VEVENT
UID:69e5e44fca0ec
DTSTAMP:20260420T083111Z
DTSTART:20190204T000000Z
DTEND:20190405T000000Z
LOCATION:
SUMMARY:Bill Viola: Intimate Works
DESCRIPTION:Bill Viola’s new exhibition at Blain|Southern presents small-
 screen works in an intimate context to reflect on the complex details of hu
 man relations and our attachment to the material world. Known for exploring
  the artistic potential of video since the seventies\,  here Viola employs 
 a number of formats and techniques of[..]\nhttps://artlyst.com/events/bill-
 viola-intimate-works/
URL:https://artlyst.com/events/bill-viola-intimate-works/
END:VEVENT
END:VCALENDAR