BEGIN:VCALENDAR
VERSION:2.0
PRODID:-//eventon.com NONSGML v1.0//EN
CALSCALE:GREGORIAN
METHOD:PUBLISH
BEGIN:VEVENT
UID:69e5e833b96c9
DTSTAMP:20260420T084747Z
DTSTART:20210104T000000Z
DTEND:20210404T000000Z
LOCATION:Royal Academy of Arts Burlington House\,  Piccadilly\,  London W1J 0BD
SUMMARY:London Original Print Fair 2019
DESCRIPTION:At the London Original Print Fair visitors have the unparalle
 led opportunity to buy original prints spanning five centuries\,  from top 
 international dealers\,  galleries and studios. LOPF’s convivial atmosphe
 re in the Royal Academy’s Main Galleries provides the perfect setting to 
 engage with the 50 exhibitors\,  who offer a wealth of specialist knowledge
  for[..]\nhttps://artlyst.com/events/london-original-print-fair-2019/
URL:https://artlyst.com/events/london-original-print-fair-2019/
END:VEVENT
END:VCALENDAR