BEGIN:VCALENDAR
VERSION:2.0
PRODID:-//eventon.com NONSGML v1.0//EN
CALSCALE:GREGORIAN
METHOD:PUBLISH
BEGIN:VEVENT
UID:69ea47174753b
DTSTAMP:20260423T162143Z
DTSTART:20190806T000000Z
DTEND:20190407T000000Z
LOCATION:Somerset House Strand London WC2R 1LA
SUMMARY:Generations Connecting Across Time and Place
DESCRIPTION:Exhibition exploring how intimate relationships and collective
  histories affect an individual’s sense of self. From baby boomers to mil
 lennials\,  to generation X\,  Y or Z\,  society is obsessed with what mak
 es one generation different from the last. Yet\,  people all share collecti
 ve pasts and presents. For the 12th year of The Courtauld Institute’s[..
 ]\nhttps://artlyst.com/events/generations-connecting-across-time-and-place/
URL:https://artlyst.com/events/generations-connecting-across-time-and-place/
END:VEVENT
END:VCALENDAR