BEGIN:VCALENDAR
VERSION:2.0
PRODID:-//eventon.com NONSGML v1.0//EN
CALSCALE:GREGORIAN
METHOD:PUBLISH
BEGIN:VEVENT
UID:69e6db975ea6f
DTSTAMP:20260421T020615Z
DTSTART:20210306T000000Z
DTEND:20190307T000000Z
LOCATION:The Royal Hospital Chelsea South Grounds London SW3 4LW
SUMMARY:Masterpiece London Art Fair 2019
DESCRIPTION:Masterpiece has established itself as the world&#8217;s leading
  cross-collecting fair\,  offering the finest works of art\,  design\,  fur
 niture and jewellery\,  from antiquity to the present day. The unmissable e
 vent at the height of the capital&#8217;s summer season\,  Masterpiece Lond
 on provides an unparalleled opportunity for new and established collectors 
 to discover[..]\nhttps://artlyst.com/events/masterpiece-london-art-fair-201
 9/
URL:https://artlyst.com/events/masterpiece-london-art-fair-2019/
END:VEVENT
END:VCALENDAR