BEGIN:VCALENDAR
VERSION:2.0
PRODID:-//eventon.com NONSGML v1.0//EN
CALSCALE:GREGORIAN
METHOD:PUBLISH
BEGIN:VEVENT
UID:69e921815709e
DTSTAMP:20260422T192905Z
DTSTART:20190609T000000Z
DTEND:20200411T000000Z
LOCATION:michael-werner
SUMMARY:Peter Doig\,  Paintings
DESCRIPTION:Michael Werner Gallery\,  London presents an exhibition of new 
 paintings by Peter Doig. Peter Doig was born in Edinburgh in 1959 and curre
 ntly lives and works in New York and Trinidad.\nhttps://artlyst.com/events/
 peter-doig-paintings/
URL:https://artlyst.com/events/peter-doig-paintings/
END:VEVENT
END:VCALENDAR