BEGIN:VCALENDAR
VERSION:2.0
PRODID:-//eventon.com NONSGML v1.0//EN
CALSCALE:GREGORIAN
METHOD:PUBLISH
BEGIN:VEVENT
UID:69e63d23ecff5
DTSTAMP:20260420T145011Z
DTSTART:20191109T000000Z
DTEND:20191011T000000Z
LOCATION:Newport Street Gallery 1 Newport St\,  London SE11 6AJ
SUMMARY:John Squire: Disinformation
DESCRIPTION:A solo exhibition of paintings by John Squire (b.1962) displaye
 d in two of Newport Street Gallery’s six spaces. ‘Disinformation’ wil
 l feature a new series of large-scale oil paintings by Squire\,  which are 
 based on photographs taken by the artist or found online. Squire alters the
  images using editing software\,  which[..]\nhttps://artlyst.com/events/joh
 n-squire-disinformation/
URL:https://artlyst.com/events/john-squire-disinformation/
END:VEVENT
END:VCALENDAR