BEGIN:VCALENDAR
VERSION:2.0
PRODID:-//eventon.com NONSGML v1.0//EN
CALSCALE:GREGORIAN
METHOD:PUBLISH
BEGIN:VEVENT
UID:69e6a23e22cae
DTSTAMP:20260420T220134Z
DTSTART:20220401T000000Z
DTEND:20200402T000000Z
LOCATION:the-cello-factory 33-34 Cornwall Road Waterloo London SE1 8TJ
SUMMARY:ImPerfectum
DESCRIPTION:Exhibition ImPerfectum is a thought-provoking collection of wor
 ks exploring the idea and notion of unfinishedness\,  created in a variety 
 of media\,  including painting\,  collage\,  film\,  sound\,  drawing\,  fa
 bric work\,  sculpture and photography. ImPerfectum offers a glimpse and so
 me analysis that provides valuable insight into the making\,  thinking\,  m
 eaning and critical[..]\nhttps://artlyst.com/events/imperfectum/
URL:https://artlyst.com/events/imperfectum/
END:VEVENT
END:VCALENDAR