BEGIN:VCALENDAR
VERSION:2.0
PRODID:-//eventon.com NONSGML v1.0//EN
CALSCALE:GREGORIAN
METHOD:PUBLISH
BEGIN:VEVENT
UID:69e4d50295715
DTSTAMP:20260419T131338Z
DTSTART:20220506T000000Z
DTEND:20221106T000000Z
LOCATION:various venues around Lewisham
SUMMARY:Alternative Degree Show
DESCRIPTION:An act of protest and solidarity. An arts trail set in Lewisham
  Borough\,  across 8 venues\,  featuring the works of 17 incredible final y
 ear students on the BA Fine Art &#038; History of Art course at Goldsmiths 
 University. Featured artists: Alba Schloessingk Alec Heritier Bella Bonner-
 Evans Chantel Foo Isabel Lea[..]\nhttps://artlyst.com/events/alternative-de
 gree-show/
URL:https://artlyst.com/events/alternative-degree-show/
END:VEVENT
END:VCALENDAR