BEGIN:VCALENDAR
VERSION:2.0
PRODID:-//eventon.com NONSGML v1.0//EN
CALSCALE:GREGORIAN
METHOD:PUBLISH
BEGIN:VEVENT
UID:69ea3f2500701
DTSTAMP:20260423T154749Z
DTSTART:20221002T000000Z
DTEND:20240203T000000Z
LOCATION:Annely Juda Fine Art 16 Hanover Square London W1S 1HT
SUMMARY:Lun Tuchnowski
DESCRIPTION:Annely Juda Fine Art presents an exhibition of work by distingu
 ished German sculptor\,  Lun Tuchnowski  (1946 &#8211; 2018).   The exhi
 bition will be an overview of works spanning 40 years.  It will be Tuchnow
 ski’s third exhibition at the gallery and the first since his death in 20
 18.  The works were chosen[..]\nhttps://artlyst.com/events/lun-tuchnowski/
URL:https://artlyst.com/events/lun-tuchnowski/
END:VEVENT
END:VCALENDAR