BEGIN:VCALENDAR
VERSION:2.0
PRODID:-//eventon.com NONSGML v1.0//EN
CALSCALE:GREGORIAN
METHOD:PUBLISH
BEGIN:VEVENT
UID:69ea3f240b385
DTSTAMP:20260423T154748Z
DTSTART:20230402T000000Z
DTEND:20231005T000000Z
LOCATION:ica
SUMMARY:Decriminalised Futures
DESCRIPTION:Decriminalised Futures is a group exhibition featuring thirtee
 n international artists whose work speaks to the multiplicity of contempora
 ry sex worker experiences. The exhibition highlights the history of the sex
  worker rights movement and its inextricable links to issues of racial and 
 social justice\,  migrant rights\,  labour rights\,  anti-austerity work\, 
  and queer[..]\nhttps://artlyst.com/events/decriminalised-futures/
URL:https://artlyst.com/events/decriminalised-futures/
END:VEVENT
END:VCALENDAR