BEGIN:VCALENDAR
VERSION:2.0
PRODID:-//eventon.com NONSGML v1.0//EN
CALSCALE:GREGORIAN
METHOD:PUBLISH
BEGIN:VEVENT
UID:69ea3f29c4e2c
DTSTAMP:20260423T154753Z
DTSTART:20231009T000000Z
DTEND:20231202T000000Z
LOCATION:zabludowicz-collection
SUMMARY:LuYang: NetiNeti
DESCRIPTION:Enter the disorientating and darkly humorous worlds created by 
 multimedia artist LuYang (b. 1984\,  Shanghai) for their first UK solo exhi
 bition. Immersed in the cultures of anime\,  video games and sci-fi\,  LuYa
 ng combines Buddhism\,  neuroscience and digital technology to investigate 
 the mysteries and mechanics of the human body and mind.[..]\nhttps://artlys
 t.com/events/luyang-netineti/
URL:https://artlyst.com/events/luyang-netineti/
END:VEVENT
END:VCALENDAR