BEGIN:VCALENDAR
VERSION:2.0
PRODID:-//eventon.com NONSGML v1.0//EN
CALSCALE:GREGORIAN
METHOD:PUBLISH
BEGIN:VEVENT
UID:69ea414783eb4
DTSTAMP:20260423T155655Z
DTSTART:20231109T000000Z
DTEND:20220511T000000Z
LOCATION:Frith Street Gallery 17â€“18 Golden Square London W1F 9JJ
SUMMARY:Nancy Spero: Dancers & Goddesses
DESCRIPTION:Frith Street Gallery presents Dancers &#038; Goddesses\,  the g
 alleryâ€™s first exhibition representing the Estate of Nancy Spero (1926â€“
 2009). Focussing on a particularly productive time for the artist\,  1984â€
 “96\,  Dancers &#038; Goddesses shows the dynamic range of Speroâ€™s â€˜pan
 theonâ€™ of figures\,  including athletes\,  mourners\,  dancers and goddes
 ses. After spending the early[..]\nhttps://artlyst.com/events/nancy-spero-d
 ancers-goddesses/
URL:https://artlyst.com/events/nancy-spero-dancers-goddesses/
END:VEVENT
END:VCALENDAR