BEGIN:VCALENDAR
VERSION:2.0
PRODID:-//eventon.com NONSGML v1.0//EN
CALSCALE:GREGORIAN
METHOD:PUBLISH
BEGIN:VEVENT
UID:69ea3f295646b
DTSTAMP:20260423T154753Z
DTSTART:20220710T000000Z
DTEND:20250202T000000Z
LOCATION:The Curve at The Barbican Centre Level G\,  Barbican Centre\,  Silk Street\,  London\,  EC2Y 8DS
SUMMARY:Soheila Sokhanvari: Rebel Rebel
DESCRIPTION:Barbican Art Gallery presents Rebel Rebel\,  the first major U
 K commission by Iranian artist Soheila Sokhanvari. The exhibition features 
 a series of 27 exquisite portraits of feminist icons from pre-revolutionary
  Iran\,  painted in egg tempera onto calf vellum with a squirrel hair brush
 . Each of Sokhanvari’s miniatures – hung against a[..]\nhttps://artlyst
 .com/events/soheila-sokhanvari-rebel-rebel/
URL:https://artlyst.com/events/soheila-sokhanvari-rebel-rebel/
END:VEVENT
END:VCALENDAR