BEGIN:VCALENDAR
VERSION:2.0
PRODID:-//eventon.com NONSGML v1.0//EN
CALSCALE:GREGORIAN
METHOD:PUBLISH
BEGIN:VEVENT
UID:69e5e8a7bd725
DTSTAMP:20260420T084943Z
DTSTART:20241005T000000Z
DTEND:20250705T000000Z
LOCATION:Bell House 27 College Road\,  Dulwich\,  London\,  SE21 7BG
SUMMARY:The Tipping Point
DESCRIPTION:Sarah Sparkes and Jane Millar have been invited by host Kim Tho
 rnton to curate two rooms in Bell House\,  The Landing and The Gowan\,  in 
 response to her theme &#8216;The Tipping Point Magical or Malevolent? They 
 have taken Octavia Butler&#8217;s &#8216;Parable of the Sower&#8217; as the
  starting point. Artists: Jonathan[..]\nhttps://artlyst.com/events/the-tipp
 ing-point/
URL:https://artlyst.com/events/the-tipping-point/
END:VEVENT
END:VCALENDAR