BEGIN:VCALENDAR
VERSION:2.0
PRODID:-//eventon.com NONSGML v1.0//EN
CALSCALE:GREGORIAN
METHOD:PUBLISH
BEGIN:VEVENT
UID:69e4d48ad18fc
DTSTAMP:20260419T131138Z
DTSTART:20240531T000000Z
DTEND:20240727T000000Z
LOCATION:Victoria Miro 16 Wharf Rd\,  London N1 7RW
SUMMARY:Boscoe Holder | Geoffrey Holder
DESCRIPTION:Victoria Miro presents exhibitions by Boscoe Holder and Geoffre
 y Holder. Shown in tandem for the first time\,  exhibitions by Boscoe (1921
 –2007) and his younger brother Geoffrey (1930–2014) foreground the sibl
 ings as painters against the significance of their achievements in theatre\
 ,  dance and film. A special preview for London Gallery Weekend[..]\nhttps:
 //artlyst.com/events/boscoe-holder-geoffrey-holder/
URL:https://artlyst.com/events/boscoe-holder-geoffrey-holder/
END:VEVENT
END:VCALENDAR