BEGIN:VCALENDAR
VERSION:2.0
PRODID:-//eventon.com NONSGML v1.0//EN
CALSCALE:GREGORIAN
METHOD:PUBLISH
BEGIN:VEVENT
UID:69e5e7e4f0079
DTSTAMP:20260420T084628Z
DTSTART:20250128T000000Z
DTEND:20250421T000000Z
LOCATION:Royal Academy of Arts Burlington House\,  Piccadilly\,  London W1J 0BD
SUMMARY:Brasil! Brasil! The Birth of Modernism
DESCRIPTION:A major exhibition featuring over 130 works by ten important Br
 azilian artists from the twentieth century\,  capturing the diversity of Br
 azilian art at the time. In the early 20th century a new modern art was eme
 rging in Brazil. Starting in the 1910s and continuing into the 1970s\,  Bra
 zilian artists were[..]\nhttps://artlyst.com/events/brasil-brasil-the-birth
 -of-modernism/
URL:https://artlyst.com/events/brasil-brasil-the-birth-of-modernism/
END:VEVENT
END:VCALENDAR