BEGIN:VCALENDAR
VERSION:2.0
PRODID:-//eventon.com NONSGML v1.0//EN
CALSCALE:GREGORIAN
METHOD:PUBLISH
BEGIN:VEVENT
UID:69e5fc717c2f9
DTSTAMP:20260420T101409Z
DTSTART:20250320T000000Z
DTEND:20250727T000000Z
LOCATION:Serpentine North West Carriage Drive\,  London W2 2AR
SUMMARY:Arpita Singh: Remembering
DESCRIPTION:Remembering is the first solo exhibition of Arpita Singh outsi
 de India\,  featuring key works selected in close collaboration with the ar
 tist from her prolific career spanning more than six decades. Singh’s pai
 ntings centre on her emotional and psychological state\,  drawing from Beng
 ali folk art and Indian stories\,  interwoven with experiences of[..]\nhttp
 s://artlyst.com/events/arpita-singh-remembering/
URL:https://artlyst.com/events/arpita-singh-remembering/
END:VEVENT
END:VCALENDAR