BEGIN:VCALENDAR
VERSION:2.0
PRODID:-//eventon.com NONSGML v1.0//EN
CALSCALE:GREGORIAN
METHOD:PUBLISH
BEGIN:VEVENT
UID:69ed69499cf82
DTSTAMP:20260426T012425Z
DTSTART:20250606T000000Z
DTEND:20250806T000000Z
LOCATION:Various venues around London
SUMMARY:London Gallery Weekend 2025
DESCRIPTION:London Gallery Weekend (LGW)\,  the biggest gallery weekend eve
 nt in the world\,  returns for its fifth edition from Friday 6 to Sunday 8 
 June\,  2025\,  uniting the city’s network of world-class galleries for a
  three-day programme of exhibitions and events. With 125 participating gal
 leries – ranging from established galleries to emerging spaces\, [..]\nh
 ttps://artlyst.com/events/london-gallery-weekend-2025/
URL:https://artlyst.com/events/london-gallery-weekend-2025/
END:VEVENT
END:VCALENDAR