BEGIN:VCALENDAR
VERSION:2.0
PRODID:-//eventon.com NONSGML v1.0//EN
CALSCALE:GREGORIAN
METHOD:PUBLISH
BEGIN:VEVENT
UID:69e6163329928
DTSTAMP:20260420T120403Z
DTSTART:20250920T000000Z
DTEND:20260118T000000Z
LOCATION:Royal Academy of Arts Burlington House\,  Piccadilly\,  London W1J 0BD
SUMMARY:Kerry James Marshall: The Histories
DESCRIPTION:20 September 2025 &#8211; 18 January 2026 Internationally accla
 imed artist Kerry James Marshall is one of the most important painters work
 ing right now. His vivid and mostly large-scale paintings place the Black f
 igure front and centre. Marshall builds upon the Western tradition of histo
 ry painting and makes visible those people[..]\nhttps://artlyst.com/events/
 kerry-james-marshall-the-histories/
URL:https://artlyst.com/events/kerry-james-marshall-the-histories/
END:VEVENT
END:VCALENDAR