BEGIN:VCALENDAR
VERSION:2.0
PRODID:-//eventon.com NONSGML v1.0//EN
CALSCALE:GREGORIAN
METHOD:PUBLISH
BEGIN:VEVENT
UID:69e6168a1dc06
DTSTAMP:20260420T120530Z
DTSTART:20251010T000000Z
DTEND:20260215T000000Z
LOCATION:Tate Britain Millbank\,  London SW1P 4RG
SUMMARY:Lee Miller
DESCRIPTION:10 October 2025 &#8211; 15 February 2026 A major exhibition of 
 the trailblazing surrealist photographer Lee Miller. With the most extensiv
 e retrospective of her photography yet staged in the UK\,  Tate Britain cel
 ebrates Lee Miller as one of the 20th century&#8217;s most urgent artisti
 c voices. First exposed to a camera by working[..]\nhttps://artlyst.com/eve
 nts/lee-miller/
URL:https://artlyst.com/events/lee-miller/
END:VEVENT
END:VCALENDAR