BEGIN:VCALENDAR
VERSION:2.0
PRODID:-//eventon.com NONSGML v1.0//EN
CALSCALE:GREGORIAN
METHOD:PUBLISH
BEGIN:VEVENT
UID:69e5e4a234183
DTSTAMP:20260420T083234Z
DTSTART:20251003T000000Z
DTEND:20251220T000000Z
LOCATION:Maureen Paley Three Colts Lane 60 Three Colts Lane London E2 6GQ
SUMMARY:Wolfgang Tillmans: Build From Here
DESCRIPTION:Maureen Paley presents Build From Here\,  Wolfgang Tillmans’s
  eleventh exhibition with the gallery. This exhibition marks the inaugurati
 on of Maureen Paley&#8217;s new gallery at 4 Herald St. This space\,  previ
 ously part of Tillmans’s former London studio\,  holds particular signifi
 cance for both the gallery and the artist. He moved his primary[..]\nhttps:
 //artlyst.com/events/wolfgang-tillmans-build-from-here/
URL:https://artlyst.com/events/wolfgang-tillmans-build-from-here/
END:VEVENT
END:VCALENDAR