BEGIN:VCALENDAR
VERSION:2.0
PRODID:-//eventon.com NONSGML v1.0//EN
CALSCALE:GREGORIAN
METHOD:PUBLISH
BEGIN:VEVENT
UID:69e61637b53e9
DTSTAMP:20260420T120407Z
DTSTART:20251010T000000Z
DTEND:20260208T000000Z
LOCATION:Serpentine South Gallery Kensington Gardens\,  London W2 3XA
SUMMARY:Peter Doig: House Of Music
DESCRIPTION:10 October 2025 &#8211; 8 February 2026 Serpentine presents a n
 ew project by Peter Doig that explores the role of music\,  film\,  and sit
 es of communal gathering\,  listening and creative exchange within his prac
 tice. Transforming the gallery into a listening space\,  House of Music b
 rings together recent paintings and\,  for the first[..]\nhttps://artlyst.c
 om/events/peter-doig-house-of-music/
URL:https://artlyst.com/events/peter-doig-house-of-music/
END:VEVENT
END:VCALENDAR