BEGIN:VCALENDAR
VERSION:2.0
PRODID:-//eventon.com NONSGML v1.0//EN
CALSCALE:GREGORIAN
METHOD:PUBLISH
BEGIN:VEVENT
UID:69e61638371fb
DTSTAMP:20260420T120408Z
DTSTART:20251031T000000Z
DTEND:20260224T000000Z
LOCATION:Royal Academy of Arts Burlington House\,  Piccadilly\,  London W1J 0BD
SUMMARY:A Story of South Asian Art: Mrinalini Mukherjee and Her Circle
DESCRIPTION:This exhibition traces a century of South Asian art\,  from the
  1930s to the present day\,  through the people and places that influenced 
 Indian sculptor Mrinalini Mukherjee (1949-2015). Her artworks fuse abstract
 ion with the human form – drawing on nature\,  regional traditions of arc
 hitecture and craft and international Modernist art[..]\nhttps://artlyst.co
 m/events/a-story-of-south-asian-art-mrinalini-mukherjee-and-her-circle/
URL:https://artlyst.com/events/a-story-of-south-asian-art-mrinalini-mukherjee-and-her-circle/
END:VEVENT
END:VCALENDAR