BEGIN:VCALENDAR
VERSION:2.0
PRODID:-//eventon.com NONSGML v1.0//EN
CALSCALE:GREGORIAN
METHOD:PUBLISH
BEGIN:VEVENT
UID:69e61671a138d
DTSTAMP:20260420T120505Z
DTSTART:20251107T000000Z
DTEND:20260510T000000Z
LOCATION:The National Gallery Trafalgar Square\,  London WC2N 5DN
SUMMARY:Wright of Derby: From the Shadows
DESCRIPTION:7 November 2025 &#8211; 10 May 2026 &#8216;Wright of Derby: Fro
 m the Shadows&#8217; is the first major exhibition dedicated to the British
  artist’s ‘candlelight’ paintings. Illuminated faces gather around a 
 variety of objects – from classical sculptures and scientific instruments
  to bones\,  bladders and animals. Through his unflinching scenes of[..]\nh
 ttps://artlyst.com/events/wright-of-derby-from-the-shadows/
URL:https://artlyst.com/events/wright-of-derby-from-the-shadows/
END:VEVENT
END:VCALENDAR