BEGIN:VCALENDAR
VERSION:2.0
PRODID:-//eventon.com NONSGML v1.0//EN
CALSCALE:GREGORIAN
METHOD:PUBLISH
BEGIN:VEVENT
UID:69e5e7afbd4fa
DTSTAMP:20260420T084535Z
DTSTART:20251128T000000Z
DTEND:20260301T000000Z
LOCATION:OOF Gallery Warmington House\,  744 High Road
SUMMARY:Roger Mayne: ‘Football’
DESCRIPTION:Roger Mayne is one of the most significant and influential phot
 ographers in British history. His images captured the poverty and hardship 
 of inner city life in West London in the late 1950s with a rare and touchin
 g sensitivity and tenderness. The people he photographed – especially the
  children – are[..]\nhttps://artlyst.com/events/roger-mayne-football/
URL:https://artlyst.com/events/roger-mayne-football/
END:VEVENT
END:VCALENDAR