BEGIN:VCALENDAR
VERSION:2.0
PRODID:-//eventon.com NONSGML v1.0//EN
CALSCALE:GREGORIAN
METHOD:PUBLISH
BEGIN:VEVENT
UID:69e4d50c74719
DTSTAMP:20260419T131348Z
DTSTART:20260413T095200Z
DTEND:20260613T095200Z
LOCATION:Waddington Custot Galleries 11 Cork Street\,  London W1S 3LT
SUMMARY:Jean Dubuffet: The Last 10 Years
DESCRIPTION:‘Jean Dubuffet: The Last 10 Years’ brings together a focuse
 d selection of paintings from the radical final chapter of his career. Dubu
 ffet remained remarkably productive right up to the end of his life\,  crea
 ting works that push artistic boundaries and challenge the way we see the w
 orld. Presenting 17 pivotal[..]\nhttps://artlyst.com/events/jean-dubuffet-t
 he-last-10-years/
URL:https://artlyst.com/events/jean-dubuffet-the-last-10-years/
END:VEVENT
END:VCALENDAR