BEGIN:VCALENDAR
VERSION:2.0
PRODID:-//eventon.com NONSGML v1.0//EN
CALSCALE:GREGORIAN
METHOD:PUBLISH
BEGIN:VEVENT
UID:69ea3f23440e3
DTSTAMP:20260423T154747Z
DTSTART:20260422T084000Z
DTEND:20260531T084000Z
LOCATION:White Cube Bermondsey Street 144 Bermondsey St\,  London SE1 3TQ
SUMMARY:Katharina Grosse:  I Set Out\,  I Walked Fast
DESCRIPTION:White Cube Bermondsey presents an exhibition of works by Kathar
 ina Grosse\,  her first with the gallery since her 2002 exhibition at the f
 ormer Hoxton Square location. This is the first major UK presentation to fu
 lly encompass the breadth and scale of Grosse’s expansive approach to pai
 nting. The exhibition brings together new[..]\nhttps://artlyst.com/events/
 katharina-grosse-i-set-out-i-walked-fast/
URL:https://artlyst.com/events/katharina-grosse-i-set-out-i-walked-fast/
END:VEVENT
END:VCALENDAR