BEGIN:VCALENDAR
VERSION:2.0
PRODID:-//eventon.com NONSGML v1.0//EN
CALSCALE:GREGORIAN
METHOD:PUBLISH
BEGIN:VEVENT
UID:69eb9f0ccd44f
DTSTAMP:20260424T164916Z
DTSTART:20260423T084800Z
DTEND:20260530T084800Z
LOCATION:Alison Jacques Gallery 22 Cork St\,  London W1S 3NG
SUMMARY:Roy Oxlade
DESCRIPTION:Alison Jacques presents a solo exhibition of British painter Ro
 y Oxlade (1929–2014)\,  spanning 30 years of his practice and featuring m
 any works which have not previously been shown. To coincide with the exhibi
 tion\,  the first monograph on Oxlade will be published\,  with essays by J
 ennifer Higgie\,  Barry Schwabsky\,  an interview[..]\nhttps://artlyst.com/
 events/roy-oxlade-2/
URL:https://artlyst.com/events/roy-oxlade-2/
END:VEVENT
END:VCALENDAR