BEGIN:VCALENDAR
VERSION:2.0
PRODID:-//eventon.com NONSGML v1.0//EN
CALSCALE:GREGORIAN
METHOD:PUBLISH
BEGIN:VEVENT
UID:69ea3f2240b67
DTSTAMP:20260423T154746Z
DTSTART:20260424T090000Z
DTEND:20260522T090000Z
LOCATION:Cristea Roberts Gallery 43 Pall Mall SW1Y 5JG
SUMMARY:Julian Opie
DESCRIPTION:New works by Julian Opie (b. 1958) will be exhibited alongsid
 e prints and editions made over the last five years spanning the full bread
 th of the artist&#8217;s multifaceted practice. Julian Opie opens with a l
 arge-scale installation of the series Everyone.\,  begun in 2023 and conti
 nuing through to 2025\,  where friends\,  gallerists\,  colleagues\,  famil
 y members[..]\nhttps://artlyst.com/events/julian-opie-5/
URL:https://artlyst.com/events/julian-opie-5/
END:VEVENT
END:VCALENDAR