BEGIN:VCALENDAR
VERSION:2.0
PRODID:-//eventon.com NONSGML v1.0//EN
CALSCALE:GREGORIAN
METHOD:PUBLISH
BEGIN:VEVENT
UID:69ea3d04d024b
DTSTAMP:20260423T153844Z
DTSTART:20260424T090800Z
DTEND:20260530T090800Z
LOCATION:Huxley Parlour Gallery Swallow Street 3-5 SWALLOW STREET London\,  W1B 4DE
SUMMARY:William Wegman: Video Works 1970-77
DESCRIPTION:Huxley-Parlour present Video Works\,  1970-77\,  a new exhibiti
 on of early video works by American artist William Wegman. Presenting ten f
 ilm works made in the 1970s\,  the exhibition explores the artist’s conti
 nued interest in language\,  word play\,  visual puns\,  comedy\,  and stor
 ytelling. The exhibition also includes some of the first examples[..]\nhttp
 s://artlyst.com/events/william-wegman-video-works-1970-77/
URL:https://artlyst.com/events/william-wegman-video-works-1970-77/
END:VEVENT
END:VCALENDAR